BEGIN:VCALENDAR
VERSION:2.0
PRODID:-//Laughlin Air Force Base - ECPv6.15.20//NONSGML v1.0//EN
CALSCALE:GREGORIAN
METHOD:PUBLISH
X-WR-CALNAME:Laughlin Air Force Base
X-ORIGINAL-URL:https://laughlin47fss.com
X-WR-CALDESC:Events for Laughlin Air Force Base
REFRESH-INTERVAL;VALUE=DURATION:PT1H
X-Robots-Tag:noindex
X-PUBLISHED-TTL:PT1H
BEGIN:VTIMEZONE
TZID:UTC
BEGIN:STANDARD
TZOFFSETFROM:+0000
TZOFFSETTO:+0000
TZNAME:UTC
DTSTART:20250101T000000
END:STANDARD
END:VTIMEZONE
BEGIN:VEVENT
DTSTART;VALUE=DATE:20260401
DTEND;VALUE=DATE:20260501
DTSTAMP:20260425T172815
CREATED:20260115T120306Z
LAST-MODIFIED:20260115T120306Z
UID:10007351-1775001600-1777593599@laughlin47fss.com
SUMMARY:Month of the Military Child
DESCRIPTION:Facility: Child Development Center\nPhone number: 830-298-5419\nDate: April 1 – 30 \nJoin us in wearing Purple every Friday during the month of April. A Purple-Up Parade will take place on the Pretoddler Playground April 24th at 1530.
URL:https://laughlin47fss.com/event/month-of-the-military-child/
CATEGORIES:Child Development Center
END:VEVENT
BEGIN:VEVENT
DTSTART;TZID=UTC:20260424T200000
DTEND;TZID=UTC:20260425T230000
DTSTAMP:20260425T172815
CREATED:20260410T203013Z
LAST-MODIFIED:20260410T203038Z
UID:10008184-1777060800-1777158000@laughlin47fss.com
SUMMARY:Colored Head Pin
DESCRIPTION:Earn free bowling coupons when you get a strike on your first roll. Staff must witness the strike.\nIf the colored head pin is up and you get a strike on the first roll earn a coupon for a future free game.
URL:https://laughlin47fss.com/event/colored-head-pin/2026-04-24/
CATEGORIES:Bowling Center
END:VEVENT
BEGIN:VEVENT
DTSTART;TZID=UTC:20260425T200000
DTEND;TZID=UTC:20260426T230000
DTSTAMP:20260425T172815
CREATED:20260410T203013Z
LAST-MODIFIED:20260410T203038Z
UID:10008185-1777147200-1777244400@laughlin47fss.com
SUMMARY:Colored Head Pin
DESCRIPTION:Earn free bowling coupons when you get a strike on your first roll. Staff must witness the strike.\nIf the colored head pin is up and you get a strike on the first roll earn a coupon for a future free game.
URL:https://laughlin47fss.com/event/colored-head-pin/2026-04-25/
CATEGORIES:Bowling Center
END:VEVENT
END:VCALENDAR